BEGIN:VCALENDAR
VERSION:2.0
PRODID:-//Savage Sledderz - ECPv6.15.20//NONSGML v1.0//EN
CALSCALE:GREGORIAN
METHOD:PUBLISH
X-ORIGINAL-URL:https://www.savagesledderz.com
X-WR-CALDESC:Events for Savage Sledderz
REFRESH-INTERVAL;VALUE=DURATION:PT1H
X-Robots-Tag:noindex
X-PUBLISHED-TTL:PT1H
BEGIN:VTIMEZONE
TZID:America/Denver
BEGIN:DAYLIGHT
TZOFFSETFROM:-0700
TZOFFSETTO:-0600
TZNAME:MDT
DTSTART:20250309T090000
END:DAYLIGHT
BEGIN:STANDARD
TZOFFSETFROM:-0600
TZOFFSETTO:-0700
TZNAME:MST
DTSTART:20251102T080000
END:STANDARD
BEGIN:DAYLIGHT
TZOFFSETFROM:-0700
TZOFFSETTO:-0600
TZNAME:MDT
DTSTART:20260308T090000
END:DAYLIGHT
BEGIN:STANDARD
TZOFFSETFROM:-0600
TZOFFSETTO:-0700
TZNAME:MST
DTSTART:20261101T080000
END:STANDARD
BEGIN:DAYLIGHT
TZOFFSETFROM:-0700
TZOFFSETTO:-0600
TZNAME:MDT
DTSTART:20270314T090000
END:DAYLIGHT
BEGIN:STANDARD
TZOFFSETFROM:-0600
TZOFFSETTO:-0700
TZNAME:MST
DTSTART:20271107T080000
END:STANDARD
END:VTIMEZONE
BEGIN:VEVENT
DTSTART;TZID=America/Denver:20260221T080000
DTEND;TZID=America/Denver:20260222T160000
DTSTAMP:20260423T104942
CREATED:20241030T185225Z
LAST-MODIFIED:20260215T131011Z
UID:4474-1771660800-1771776000@www.savagesledderz.com
SUMMARY:Ladies Riding Clinic - February 21-22
DESCRIPTION:Come ride with us on a true backcountry experience\n\n\n\n\nGrab a friend or two for a very exclusive day of lady specific backcountry riding skill instruction on the mountain.  Our professional level riding instructors will work with you to develop the skills you need to step to the next level. Explore the world-famous Northern Colorado snowpack in the undiscovered Routt National Forest or our Private Land access. Our clinic is structured around on-the-mountain training involving real-world situations combined with years of coaching experience. \n\n\n\n\n\nAs a novice\, we will start with some basic skills and work our way up.\nAs a intermediate rider\, we are going to expand your skill set in some bigger terrain.\nAs an expert – you’ll have to try and keep up!\n\n\n\n\n\nOur Ladies Backcountry Riding Clinics are leveled to suit the needs of all female riders looking to improve their skills. From complete novices to expert riders\, we can help you improve your riding technique.  This will help lead you to longer\, more fun-filled days exploring new riding zones. We will work with you to determine your riding goals and organize our instruction to suit your needs.  We develop a customized learning plan for each one of our clients. \n\n\nIncluded\n\nFull day ride(s):  Our ladies backcountry riding clinics leave the trailhead around 8:00 am and return around 4:00 p.m. or when you are tuckered out.\nYour riding instructors for the day\, who are CPR and avalanche trained\nShovel\, beacon\, probe\, and avalanche airbag will be provided as needed
URL:https://www.savagesledderz.com/event/ladies-riding-clinic-craig-co-2/
LOCATION:Savage Sledderz – Craig\, Craig\, CO\, 81625\, United States
CATEGORIES:Ladies Riding Clinic
ATTACH;FMTTYPE=image/jpeg:https://www.savagesledderz.com/wp-content/uploads/2023/08/IMG_0402.jpg
ORGANIZER;CN="Aleah Hockin":MAILTO:info@savagesledderz.com
END:VEVENT
END:VCALENDAR