BEGIN:VCALENDAR
VERSION:2.0
PRODID:-//Savage Sledderz - ECPv6.15.20//NONSGML v1.0//EN
CALSCALE:GREGORIAN
METHOD:PUBLISH
X-WR-CALNAME:Savage Sledderz
X-ORIGINAL-URL:https://www.savagesledderz.com
X-WR-CALDESC:Events for Savage Sledderz
REFRESH-INTERVAL;VALUE=DURATION:PT1H
X-Robots-Tag:noindex
X-PUBLISHED-TTL:PT1H
BEGIN:VTIMEZONE
TZID:UTC
BEGIN:STANDARD
TZOFFSETFROM:+0000
TZOFFSETTO:+0000
TZNAME:UTC
DTSTART:20250101T000000
END:STANDARD
END:VTIMEZONE
BEGIN:VEVENT
DTSTART;TZID=UTC:20260122T080000
DTEND;TZID=UTC:20260122T170000
DTSTAMP:20260423T145332
CREATED:20250901T155704Z
LAST-MODIFIED:20260101T172617Z
UID:4796-1769068800-1769101200@www.savagesledderz.com
SUMMARY:Avalanche Rescue Course - January 22
DESCRIPTION:This is the on-snow continuation and review to your avalanche education start with your Level 1 course.  A well-rounded\, hands-on class learning a variety of rescue skills to make you more proficient with your avalanche rescue skills. \nOne full day of in the field learning and we’ll travel by snowmobile or snow bike in class.  You’ll be learning how to respond in an avalanche situation\, how to use your transceiver to find a buried rider\, use your probe to locate the missing rider under the snow\, and practice shoveling in avalanche debris. \nWho’s it for: For recreational riders\, pros\, guides\, and search and rescue teams. \nRiding Ability:  Don’t worry about your riding skills.  The class is fun and we work as a team to get to the learning areas using groomed trails\, single track and easy meadow riding.  If the entire group is more accomplished riders\, we’ll ramp it up.  The snowmobiles and snowbikes are used to gain access to areas where we park and then teach. \nLocation: Craig\, CO \nClass start:   8:30am – Be dressed to ride and spend the day outside. \nDates:.  January 22\, 2026 \nCost: $295 \nRefund policy:  No refunds will be given within 30 days of class start date. \nSchedule:  8:30 am-5:00pm \nWhat to do for preparation: Read your transceiver manual. Practice using your transceiver and switching from transmit to search.  Make sure you have new batteries. Make sure all your gear is ready.  Bring notebook and pen to class.  Read the avalanche forecast.  Make notes on questions you have for class. \nHave your machines in excellent working order\, fueled and ready. \nWhat to bring:  Snowmobile or Snow Bike. Transceiver (3 antenna)\, shovel\, probe\, tunnel bag\, backpack or airbag pack\, sunglasses\, multiple pairs of gloves\, sunscreen\, face protection\, survival and first aid gear\, hat\, food (lunch) and water for in the field\, extra layers\, head lamp\, notebook\, pens\, pencil\, camera. \nIf you don’t have avalanche gear\, please let us know and we can supply it. \nDress warmer than expected.  We are out in the elements for long periods of time at or above timberline.  You will be standing still at times\, dress much warmer than you would for nonstop aggressive riding.    Bring a thermos with hot liquids if it is going to be cold.  We do not cancel for cold weather. \nInstructor: Mike Duffy. Professional member and Certified instructor/school American Avalanche Association.  Teaching at American Avalanche Institute\, Colorado Mountain College and Silverton Avalanche School. Rescue/avalanche team leader/ Vail Mountain Rescue Group. Graduate of National Avalanche School\, National Academy of Winter Guiding\, AVPRO & Professional Avalanche Search & Rescue. Mountain Snowmobiler for 25 years. Provided training for Arctic Cat\, Polaris\, Ski-Doo\, Mountain Rescue Teams\, FBI and Navy Seals. Backcountry Guide/riding instructor. 26 years experience in proven\, effective avalanche education.
URL:https://www.savagesledderz.com/event/january-22-avalanche-rescue-course/
LOCATION:Savage Sledderz – Craig\, Craig\, CO\, 81625\, United States
CATEGORIES:Avalanche Course
ATTACH;FMTTYPE=image/png:https://www.savagesledderz.com/wp-content/uploads/2023/09/Avi1-Narrow-2.png
ORGANIZER;CN="Aleah Hockin":MAILTO:info@savagesledderz.com
END:VEVENT
END:VCALENDAR