BEGIN:VCALENDAR
VERSION:2.0
PRODID:-//Savage Sledderz - ECPv6.15.20//NONSGML v1.0//EN
CALSCALE:GREGORIAN
METHOD:PUBLISH
X-ORIGINAL-URL:https://www.savagesledderz.com
X-WR-CALDESC:Events for Savage Sledderz
REFRESH-INTERVAL;VALUE=DURATION:PT1H
X-Robots-Tag:noindex
X-PUBLISHED-TTL:PT1H
BEGIN:VTIMEZONE
TZID:UTC
BEGIN:STANDARD
TZOFFSETFROM:+0000
TZOFFSETTO:+0000
TZNAME:UTC
DTSTART:20240101T000000
END:STANDARD
END:VTIMEZONE
BEGIN:VEVENT
DTSTART;TZID=UTC:20251220T090000
DTEND;TZID=UTC:20260330T170000
DTSTAMP:20260423T104522
CREATED:20251009T202805Z
LAST-MODIFIED:20251009T205624Z
UID:4805-1766221200-1774890000@www.savagesledderz.com
SUMMARY:Guided Snowmobile Adventures
DESCRIPTION:Come ride with us on a true backcountry experience\n\n\n\n\nOur Guided Snowmobile Adventures are for you!  Grab a friend or two for a very exclusive day on the mountain. We’re going to take you off trail into untouched snow.  We’ll be sure to match your riding ability with terrain that we choose. Whether you are experienced or not\, it doesn’t matter.  If you love riding\, we’d love to ride with you! \n\n\n\n\n\nAs a novice\, we are going to take you to meadows and easy access terrain.\nAs a intermediate rider\, we are going to expand your comfort in some bigger terrain.\nAs an expert – you’ll have to try and keep up!\n\n\n\n\n\nThis tour gives our guides an opportunity showcase the amazing backcountry beauty our private and public lands have to display! Book this guided tour for a special\, once-in-a-lifetime experience on the mountain! We guarantee we’ll help you walk away with the best memories!
URL:https://www.savagesledderz.com/event/guided-snowmobile-adventures/
LOCATION:Savage Sledderz – Craig\, Craig\, CO\, 81625\, United States
CATEGORIES:Guided Snowmobile Adventure
ATTACH;FMTTYPE=image/png:https://www.savagesledderz.com/wp-content/uploads/2023/09/GuideSQR.png
ORGANIZER;CN="Aleah Hockin":MAILTO:info@savagesledderz.com
END:VEVENT
END:VCALENDAR